BEGIN:VCALENDAR
VERSION:2.0
PRODID:-//wp-events-plugin.com//7.2.3.1//EN
TZID:America/New_York
X-WR-TIMEZONE:America/New_York
BEGIN:VEVENT
UID:18@laurelparksarasota.org
DTSTART;TZID=America/New_York:20201210T090000
DTEND;TZID=America/New_York:20201210T090000
DTSTAMP:20201206T025713Z
URL:https://laurelparksarasota.org/events/yoga-in-the-park/
SUMMARY:Yoga in the Park
DESCRIPTION:Karen Winlund is a resident of Laurel Park and has been a pract
 icing yogi for over 10 years and received her certification at The Heartwo
 od Yoga and Retreat Center in May\, 2020. She loves yoga and truly believe
 s everyone can benefit from the practice. Please join Karen for a one hour
 \, all level slow vinyasa flow yoga class!\n\nKaren is offering these clas
 ses by donation. There is no set fee per class.\n\nPlease bring your mat\,
  and feel free to bring any props that you like.\n\nThere will be Covid pr
 ecautions taken.
ATTACH;FMTTYPE=image/jpeg:https://laurelparksarasota.org/wp-content/upload
 s/2020/12/IMG_48233-570x280-1.jpg
CATEGORIES:In the Neighborhood
LOCATION:Laurel Park\, 1732 Laurel St.\, Sarasota\, FL\, 34236\, United Sta
 tes
GEO:27.332503;-82.535702
X-APPLE-STRUCTURED-LOCATION;VALUE=URI;X-ADDRESS=1732 Laurel St.\, Sarasota\
 , FL\, 34236\, United States;X-APPLE-RADIUS=100;X-TITLE=Laurel Park:geo:27
 .332503,-82.535702
END:VEVENT
BEGIN:VTIMEZONE
TZID:America/New_York
X-LIC-LOCATION:America/New_York
BEGIN:STANDARD
DTSTART:20201101T010000
TZOFFSETFROM:-0400
TZOFFSETTO:-0500
TZNAME:EST
END:STANDARD
END:VTIMEZONE
END:VCALENDAR