BEGIN:VCALENDAR
VERSION:2.0
PRODID:-//wp-events-plugin.com//7.2.3.1//EN
TZID:America/New_York
X-WR-TIMEZONE:America/New_York
BEGIN:VEVENT
UID:30@laurelparksarasota.org
DTSTART;TZID=America/New_York:20140430T173000
DTEND;TZID=America/New_York:20140430T183000
DTSTAMP:20221231T120025Z
URL:https://laurelparksarasota.org/events/womens-exchange-site-plan-laurel
 -park-overlay-notice/
SUMMARY:Women's Exchange Site Plan - Laurel Park Overlay Notice
DESCRIPTION:				We have received notice of a community meeting to be held t
 o discuss a site plan for alterations to the Women’s Exchange building l
 ocated at 539 South Orange Avenue and 526 Rawls Avenue.		
ATTACH;FMTTYPE=image/jpeg:https://laurelparksarasota.org/wp-content/upload
 s/2014/04/Sarasota-Herald-Building.jpg
CATEGORIES:Government / Community Meetings
LOCATION:Our lovely neighborhood park\, 1725 Laurel St\, Sarasota\, FL\, 34
 236\, United States
X-APPLE-STRUCTURED-LOCATION;VALUE=URI;X-ADDRESS=1725 Laurel St\, Sarasota\,
  FL\, 34236\, United States;X-APPLE-RADIUS=100;X-TITLE=Our lovely neighbor
 hood park:geo:0,0
END:VEVENT
BEGIN:VTIMEZONE
TZID:America/New_York
X-LIC-LOCATION:America/New_York
BEGIN:DAYLIGHT
DTSTART:20140309T030000
TZOFFSETFROM:-0500
TZOFFSETTO:-0400
TZNAME:EDT
END:DAYLIGHT
END:VTIMEZONE
END:VCALENDAR