BEGIN:VCALENDAR
VERSION:2.0
PRODID:-//wp-events-plugin.com//7.2.3.1//EN
TZID:America/New_York
X-WR-TIMEZONE:America/New_York
BEGIN:VEVENT
UID:31@laurelparksarasota.org
DTSTART;TZID=America/New_York:20160416T170000
DTEND;TZID=America/New_York:20160416T210000
DTSTAMP:20221231T121113Z
URL:https://laurelparksarasota.org/events/tunes-in-the-park-4/
SUMMARY:Tunes in the Park
DESCRIPTION:				Join friends and neighbors for a night of tunes in the park
  featuring The Arthur Z Band.		
CATEGORIES:In the Neighborhood
LOCATION:Laurel Park\, 1732 Laurel Street\, Sarasota\, FL\, 34236\, United 
 States
X-APPLE-STRUCTURED-LOCATION;VALUE=URI;X-ADDRESS=1732 Laurel Street\, Saraso
 ta\, FL\, 34236\, United States;X-APPLE-RADIUS=100;X-TITLE=Laurel Park:geo
 :0,0
END:VEVENT
BEGIN:VTIMEZONE
TZID:America/New_York
X-LIC-LOCATION:America/New_York
BEGIN:DAYLIGHT
DTSTART:20160313T030000
TZOFFSETFROM:-0500
TZOFFSETTO:-0400
TZNAME:EDT
END:DAYLIGHT
END:VTIMEZONE
END:VCALENDAR