BEGIN:VCALENDAR
VERSION:2.0
PRODID:-//wp-events-plugin.com//7.2.3.1//EN
TZID:America/New_York
X-WR-TIMEZONE:America/New_York
BEGIN:VEVENT
UID:7@laurelparksarasota.org
DTSTART;TZID=America/New_York:20200418T170000
DTEND;TZID=America/New_York:20200418T210000
DTSTAMP:20200320T042327Z
URL:https://laurelparksarasota.org/events/tunes-in-the-park-10/
SUMMARY:Tunes in the Park (CANCELLED due to virus)
DESCRIPTION:{ CANCELLED }\nWe will reschedule when the Virus  has cleared 
 out!\n[su_divider top="no" divider_color="#bf0d0f" size="4" margin="0"]\nJ
 oin your friends and neighbors for a night of food\, drink and live musi
 c in Laurel Park.\nWater\, soft drinks\, desserts\, and utensils will be 
 provided. Potluck dinner (bring a dish to share!)\nYou won't want to miss 
 this magical event! Listen to live music under the stars and get to know y
 our neighbors!\nEvent sponsored by the LPNA and City of Sarasota.
CATEGORIES:In the Neighborhood
LOCATION:Laurel Park\, 1732 Laurel St.\, Sarasota\, FL\, 34236\, United Sta
 tes
GEO:27.332503;-82.535702
X-APPLE-STRUCTURED-LOCATION;VALUE=URI;X-ADDRESS=1732 Laurel St.\, Sarasota\
 , FL\, 34236\, United States;X-APPLE-RADIUS=100;X-TITLE=Laurel Park:geo:27
 .332503,-82.535702
END:VEVENT
BEGIN:VTIMEZONE
TZID:America/New_York
X-LIC-LOCATION:America/New_York
BEGIN:DAYLIGHT
DTSTART:20200308T030000
TZOFFSETFROM:-0500
TZOFFSETTO:-0400
TZNAME:EDT
END:DAYLIGHT
END:VTIMEZONE
END:VCALENDAR