BEGIN:VCALENDAR
VERSION:2.0
PRODID:-//wp-events-plugin.com//7.2.3.1//EN
TZID:America/New_York
X-WR-TIMEZONE:America/New_York
BEGIN:VEVENT
UID:43@laurelparksarasota.org
DTSTART;TZID=America/New_York:20241106T170000
DTEND;TZID=America/New_York:20241106T183000
DTSTAMP:20241030T143147Z
URL:https://laurelparksarasota.org/events/sarasota-orchestra-hosts-opening
 -reception-for-adrienne-watts-weaving-connection/
SUMMARY:Sarasota Orchestra Hosts Opening Reception For Adrienne Watts' "Wea
 ving Connection"
DESCRIPTION:The Sarasota Orchestra will host an Artist Reception on Novembe
 r 6th for its new "Weaving Connection" exhibition by Laurel Park resident 
 Adrienne Watts.  The event is free\, and will be in the Beatrice Friedman
  Symphony Center. at 709 N. Tamiami Trail.  The art exhibition will be on
  display from November 1 - December 19 in the Orchestra's Harmony Gallery 
 between Monday through Friday\, 8:30 am-4:30 pm.  25% of all proceeds fro
 m the sale of the artwork benefit the Sarasota Orchestra.  For more infor
 mation\, contact the artist at adriennewattsart@gmail.com.
CATEGORIES:In the Neighborhood
LOCATION:Sarasota Orchestra\, 709 N. Tamiami Trail\, Sarasota\, Florida\, 3
 4236\, United States
X-APPLE-STRUCTURED-LOCATION;VALUE=URI;X-ADDRESS=709 N. Tamiami Trail\, Sara
 sota\, Florida\, 34236\, United States;X-APPLE-RADIUS=100;X-TITLE=Sarasota
  Orchestra:geo:0,0
END:VEVENT
BEGIN:VTIMEZONE
TZID:America/New_York
X-LIC-LOCATION:America/New_York
BEGIN:STANDARD
DTSTART:20241103T010000
TZOFFSETFROM:-0400
TZOFFSETTO:-0500
TZNAME:EST
END:STANDARD
END:VTIMEZONE
END:VCALENDAR