BEGIN:VCALENDAR
VERSION:2.0
PRODID:-//wp-events-plugin.com//7.2.3.1//EN
TZID:America/New_York
X-WR-TIMEZONE:America/New_York
BEGIN:VEVENT
UID:21@laurelparksarasota.org
DTSTART;TZID=America/New_York:20210410T170000
DTEND;TZID=America/New_York:20210410T200000
DTSTAMP:20210315T190211Z
URL:https://laurelparksarasota.org/events/picnic-in-the-park/
SUMMARY:Picnic in the Park
DESCRIPTION:We invite you to join your Laurel Park neighbors for a "BYO” 
 food and beverage picnic!\n\nBack in the day\, we’d all bring our favori
 te dishes to the Laurel Park and share\, but this time around we’ve got 
 to be Covid Aware. So\, we are asking everyone to share dishes among their
  own family members\, rather than the entire neighborhood.\n\nWhile we are
  on the subject of Covid Awareness\, please practice social distancing as 
 you catch up with friends. We encourage you to wear masks when not eating 
 or drinking.\n\nLive music by Dos Lonely Bones\n\nAs always\, there will b
 e surprises for the kids!\n\nStay tuned\, more details to come!
ATTACH;FMTTYPE=image/jpeg:https://laurelparksarasota.org/wp-content/upload
 s/2021/03/romantic-picnic-in-the-grass.jpg
CATEGORIES:In the Neighborhood
LOCATION:Laurel Park\, 1732 Laurel Street\, Sarasota\, FL\, 34236\, United 
 States
GEO:27.332503;-82.535702
X-APPLE-STRUCTURED-LOCATION;VALUE=URI;X-ADDRESS=1732 Laurel Street\, Saraso
 ta\, FL\, 34236\, United States;X-APPLE-RADIUS=100;X-TITLE=Laurel Park:geo
 :27.332503,-82.535702
END:VEVENT
BEGIN:VTIMEZONE
TZID:America/New_York
X-LIC-LOCATION:America/New_York
BEGIN:DAYLIGHT
DTSTART:20210314T030000
TZOFFSETFROM:-0500
TZOFFSETTO:-0400
TZNAME:EDT
END:DAYLIGHT
END:VTIMEZONE
END:VCALENDAR