BEGIN:VCALENDAR
VERSION:2.0
PRODID:-//wp-events-plugin.com//7.2.3.1//EN
TZID:America/New_York
X-WR-TIMEZONE:America/New_York
BEGIN:VEVENT
UID:26@laurelparksarasota.org
DTSTART;TZID=America/New_York:20220416T180000
DTEND;TZID=America/New_York:20220416T210000
DTSTAMP:20220405T143815Z
URL:https://laurelparksarasota.org/events/picnic-in-the-park-3/
SUMMARY:Picnic in the Park
DESCRIPTION:[su_divider top="no" divider_color="#6fcff5" size="12" margin="
 0"]\n\n\n\nWe invite you to join your Laurel Park neighbors for a "BYO” 
 food and beverage picnic!\n\nLive music with the high-energy local band\, 
 Big Night Out.\n\nAs always\, there will be surprises for the kids!\n\nPle
 ase remember to bring your own seating\, food and beverages. Laurel Park t
 ees shirts available for a $10 donation.\n\nSave the date -- See you there
 !
ATTACH;FMTTYPE=image/jpeg:https://laurelparksarasota.org/wp-content/upload
 s/2021/03/romantic-picnic-in-the-grass.jpg
CATEGORIES:In the Neighborhood
LOCATION:Laurel Park\, 1732 Laurel Street\, Sarasota\, FL\, 34236\, United 
 States
GEO:27.332503;-82.535702
X-APPLE-STRUCTURED-LOCATION;VALUE=URI;X-ADDRESS=1732 Laurel Street\, Saraso
 ta\, FL\, 34236\, United States;X-APPLE-RADIUS=100;X-TITLE=Laurel Park:geo
 :27.332503,-82.535702
END:VEVENT
BEGIN:VTIMEZONE
TZID:America/New_York
X-LIC-LOCATION:America/New_York
BEGIN:DAYLIGHT
DTSTART:20220313T030000
TZOFFSETFROM:-0500
TZOFFSETTO:-0400
TZNAME:EDT
END:DAYLIGHT
END:VTIMEZONE
END:VCALENDAR