BEGIN:VCALENDAR
VERSION:2.0
PRODID:-//wp-events-plugin.com//7.2.3.1//EN
TZID:America/New_York
X-WR-TIMEZONE:America/New_York
BEGIN:VEVENT
UID:24@laurelparksarasota.org
DTSTART;TZID=America/New_York:20211120T180000
DTEND;TZID=America/New_York:20211120T210000
DTSTAMP:20211105T205653Z
URL:https://laurelparksarasota.org/events/picnic-in-the-park-2/
SUMMARY:Picnic in the Park
DESCRIPTION:Kick back\, catch up with your neighbors &amp\; listen to great
  music. Always a fun time. More information in the coming weeks…
ATTACH;FMTTYPE=image/jpeg:https://laurelparksarasota.org/wp-content/upload
 s/2021/11/Picnic-in-the-park.png
CATEGORIES:In the Neighborhood
LOCATION:Laurel Park\, 1732 Laurel St.\, Sarasota\, FL\, 34236\, United Sta
 tes
GEO:27.332503;-82.535702
X-APPLE-STRUCTURED-LOCATION;VALUE=URI;X-ADDRESS=1732 Laurel St.\, Sarasota\
 , FL\, 34236\, United States;X-APPLE-RADIUS=100;X-TITLE=Laurel Park:geo:27
 .332503,-82.535702
END:VEVENT
BEGIN:VTIMEZONE
TZID:America/New_York
X-LIC-LOCATION:America/New_York
BEGIN:STANDARD
DTSTART:20211107T010000
TZOFFSETFROM:-0400
TZOFFSETTO:-0500
TZNAME:EST
END:STANDARD
END:VTIMEZONE
END:VCALENDAR