BEGIN:VCALENDAR
VERSION:2.0
PRODID:-//wp-events-plugin.com//7.2.3.1//EN
TZID:America/New_York
X-WR-TIMEZONE:America/New_York
BEGIN:VEVENT
UID:23@laurelparksarasota.org
DTSTART;TZID=America/New_York:20211120T180000
DTEND;TZID=America/New_York:20211120T210000
DTSTAMP:20211105T204819Z
URL:https://laurelparksarasota.org/events/picnic-in-laurel-park/
SUMMARY:Picnic in Laurel Park
DESCRIPTION:Kick back\, catch up with your neighbors &amp\; listen to great
  music. Always a fun time. More information in the coming weeks…\n\n&nbs
 p\;
CATEGORIES:In the Neighborhood
END:VEVENT
BEGIN:VTIMEZONE
TZID:America/New_York
X-LIC-LOCATION:America/New_York
BEGIN:STANDARD
DTSTART:20211107T010000
TZOFFSETFROM:-0400
TZOFFSETTO:-0500
TZNAME:EST
END:STANDARD
END:VTIMEZONE
END:VCALENDAR