BEGIN:VCALENDAR
VERSION:2.0
PRODID:-//wp-events-plugin.com//7.2.3.1//EN
TZID:America/New_York
X-WR-TIMEZONE:America/New_York
BEGIN:VEVENT
UID:34@laurelparksarasota.org
DTSTART;TZID=America/New_York:20230422T180000
DTEND;TZID=America/New_York:20230422T210000
DTSTAMP:20230411T202733Z
URL:https://laurelparksarasota.org/events/picnic-in-laurel-park-2/
SUMMARY:Picnic in Laurel Park
DESCRIPTION:\n\nYa!! A picnic in Laurel Park\, is around the corner.\n\nSo 
 reserve next Saturday between 6 to 9pm.\n\nKick back\, catch up with your 
 neighbors &amp\; have a great time in our local park....\n\nWe’re deligh
 ted to have The Schmitz Brothers Band playing\, so inevitably there will a
 lso be dancing.\nAnyone living in Laurel Park as well as friends of Laurel
  Park are welcome. More details to come….
CATEGORIES:In the Neighborhood
LOCATION:Laurel Park (our lovely neighborhood park)\, 1725 Laurel St \, Sar
 asota\, FL\, 34236\, United States
X-APPLE-STRUCTURED-LOCATION;VALUE=URI;X-ADDRESS=1725 Laurel St \, Sarasota\
 , FL\, 34236\, United States;X-APPLE-RADIUS=100;X-TITLE=Laurel Park (our l
 ovely neighborhood park):geo:0,0
END:VEVENT
BEGIN:VTIMEZONE
TZID:America/New_York
X-LIC-LOCATION:America/New_York
BEGIN:DAYLIGHT
DTSTART:20230312T030000
TZOFFSETFROM:-0500
TZOFFSETTO:-0400
TZNAME:EDT
END:DAYLIGHT
END:VTIMEZONE
END:VCALENDAR