BEGIN:VCALENDAR
VERSION:2.0
PRODID:-//wp-events-plugin.com//7.2.3.1//EN
TZID:America/New_York
X-WR-TIMEZONE:America/New_York
BEGIN:VEVENT
UID:44@laurelparksarasota.org
DTSTART;TZID=America/New_York:20241124T180000
DTEND;TZID=America/New_York:20241124T200000
DTSTAMP:20241030T143557Z
URL:https://laurelparksarasota.org/events/nutcracker-the-mischievous-elves
 /
SUMMARY:Nutcracker & the Mischievous Elves
DESCRIPTION:The Rosemary Youth Ballet\, with special guests\, will present 
 this holiday show on November 24th at 6 pm at the Sarasota Opera House.  
 Visit the Onyx Studio 2 website for more information and tickets.
CATEGORIES:In the Neighborhood
LOCATION:Sarasota Opera House\, 61 N. Pineapple Ave\, Sarasota\, United Sta
 tes
X-APPLE-STRUCTURED-LOCATION;VALUE=URI;X-ADDRESS=61 N. Pineapple Ave\, Saras
 ota\, United States;X-APPLE-RADIUS=100;X-TITLE=Sarasota Opera House:geo:0,
 0
END:VEVENT
BEGIN:VTIMEZONE
TZID:America/New_York
X-LIC-LOCATION:America/New_York
BEGIN:STANDARD
DTSTART:20241103T010000
TZOFFSETFROM:-0400
TZOFFSETTO:-0500
TZNAME:EST
END:STANDARD
END:VTIMEZONE
END:VCALENDAR