BEGIN:VCALENDAR
VERSION:2.0
PRODID:-//wp-events-plugin.com//7.2.3.1//EN
TZID:America/New_York
X-WR-TIMEZONE:America/New_York
BEGIN:VEVENT
UID:41@laurelparksarasota.org
DTSTART;TZID=America/New_York:20241111T170000
DTEND;TZID=America/New_York:20241111T193000
DTSTAMP:20241007T180117Z
URL:https://laurelparksarasota.org/events/next-general-membership-meeting/
SUMMARY:Next General Membership Meeting
DESCRIPTION:Plan to attend the next general membership meeting on Monday No
 vember 11\, 2024 at Tamiami Tap (711 S. Osprey Ave).  Doors open at 5 pm\
 , with the meeting starting at 6 pm.
CATEGORIES:LPNA General Meetings
LOCATION:Tamiami Tap\, 711 S Osprey Ave\, Sarasota\, FL\, 34236\, United St
 ates
GEO:27.329837;-82.534002
X-APPLE-STRUCTURED-LOCATION;VALUE=URI;X-ADDRESS=711 S Osprey Ave\, Sarasota
 \, FL\, 34236\, United States;X-APPLE-RADIUS=100;X-TITLE=Tamiami Tap:geo:2
 7.329837,-82.534002
END:VEVENT
BEGIN:VTIMEZONE
TZID:America/New_York
X-LIC-LOCATION:America/New_York
BEGIN:STANDARD
DTSTART:20241103T010000
TZOFFSETFROM:-0400
TZOFFSETTO:-0500
TZNAME:EST
END:STANDARD
END:VTIMEZONE
END:VCALENDAR