BEGIN:VCALENDAR
VERSION:2.0
PRODID:-//wp-events-plugin.com//7.2.3.1//EN
TZID:America/New_York
X-WR-TIMEZONE:America/New_York
BEGIN:VEVENT
UID:40@laurelparksarasota.org
DTSTART;TZID=America/New_York:20240527T100000
DTEND;TZID=America/New_York:20240527T110000
DTSTAMP:20240511T150937Z
URL:https://laurelparksarasota.org/events/memorial-day-parade/
SUMMARY:Memorial Day Parade
DESCRIPTION:The City’s annual Memorial Day parade will be held on Monday\
 , May 27th.  The event will start at 10 am\, with the parade route beginn
 ing at Main Street and Osprey Avenue\, and ending at J.D. Hamel Park at Ma
 in Street and Gulfstream Avenue.  The parade is expected to last about on
 e hour\, with a ceremony to be held at J.D. Hamel Park at approximately 11
  am.
CATEGORIES:In the Neighborhood
END:VEVENT
BEGIN:VTIMEZONE
TZID:America/New_York
X-LIC-LOCATION:America/New_York
BEGIN:DAYLIGHT
DTSTART:20240310T030000
TZOFFSETFROM:-0500
TZOFFSETTO:-0400
TZNAME:EDT
END:DAYLIGHT
END:VTIMEZONE
END:VCALENDAR