BEGIN:VCALENDAR
VERSION:2.0
PRODID:-//wp-events-plugin.com//7.2.3.1//EN
TZID:America/New_York
X-WR-TIMEZONE:America/New_York
BEGIN:VEVENT
UID:8@laurelparksarasota.org
DTSTART;TZID=America/New_York:20200319T173000
DTEND;TZID=America/New_York:20200319T183000
DTSTAMP:20200301T022519Z
URL:https://laurelparksarasota.org/events/lpna-board-meeting-thursday-marc
 h-19th/
SUMMARY:LPNA Board Meeting
DESCRIPTION:The new LPNA board will meet for the first time!
CATEGORIES:In the Neighborhood
LOCATION:Laurel Park\, 1732 Laurel Street\, Sarasota\, FL\, 34236\, United 
 States
GEO:27.332503;-82.535702
X-APPLE-STRUCTURED-LOCATION;VALUE=URI;X-ADDRESS=1732 Laurel Street\, Saraso
 ta\, FL\, 34236\, United States;X-APPLE-RADIUS=100;X-TITLE=Laurel Park:geo
 :27.332503,-82.535702
END:VEVENT
BEGIN:VTIMEZONE
TZID:America/New_York
X-LIC-LOCATION:America/New_York
BEGIN:DAYLIGHT
DTSTART:20200308T030000
TZOFFSETFROM:-0500
TZOFFSETTO:-0400
TZNAME:EDT
END:DAYLIGHT
END:VTIMEZONE
END:VCALENDAR