BEGIN:VCALENDAR
VERSION:2.0
PRODID:-//wp-events-plugin.com//7.2.3.1//EN
TZID:America/New_York
X-WR-TIMEZONE:America/New_York
BEGIN:VEVENT
UID:20@laurelparksarasota.org
DTSTART;TZID=America/New_York:20210322T180000
DTEND;TZID=America/New_York:20210322T190000
DTSTAMP:20210303T220737Z
URL:https://laurelparksarasota.org/events/lpna-board-meeting-3/
SUMMARY:LPNA Board Meeting
DESCRIPTION:Monthly Board Meeting
CATEGORIES:In the Neighborhood
LOCATION:Laurel Park\, 1732 Laurel Street\, Sarasota\, FL\, 34236\, United 
 States
GEO:27.332503;-82.535702
X-APPLE-STRUCTURED-LOCATION;VALUE=URI;X-ADDRESS=1732 Laurel Street\, Saraso
 ta\, FL\, 34236\, United States;X-APPLE-RADIUS=100;X-TITLE=Laurel Park:geo
 :27.332503,-82.535702
END:VEVENT
BEGIN:VTIMEZONE
TZID:America/New_York
X-LIC-LOCATION:America/New_York
BEGIN:DAYLIGHT
DTSTART:20210314T030000
TZOFFSETFROM:-0500
TZOFFSETTO:-0400
TZNAME:EDT
END:DAYLIGHT
END:VTIMEZONE
END:VCALENDAR