BEGIN:VCALENDAR
VERSION:2.0
PRODID:-//wp-events-plugin.com//7.2.3.1//EN
TZID:America/New_York
X-WR-TIMEZONE:America/New_York
BEGIN:VEVENT
UID:10@laurelparksarasota.org
DTSTART;TZID=America/New_York:20200521T180000
DTEND;TZID=America/New_York:20200521T180000
DTSTAMP:20200505T181956Z
URL:https://laurelparksarasota.org/events/lpna-board-meeting-2/
SUMMARY:LPNA Board Meeting
DESCRIPTION:Board meeting to discuss upcoming events and projects. (Board m
 embers only)
CATEGORIES:LPNA Board Meetings
LOCATION:Laurel Park\, 1732 Laurel Street\, Sarasota\, FL\, 34236\, United 
 States
X-APPLE-STRUCTURED-LOCATION;VALUE=URI;X-ADDRESS=1732 Laurel Street\, Saraso
 ta\, FL\, 34236\, United States;X-APPLE-RADIUS=100;X-TITLE=Laurel Park:geo
 :0,0
END:VEVENT
BEGIN:VTIMEZONE
TZID:America/New_York
X-LIC-LOCATION:America/New_York
BEGIN:DAYLIGHT
DTSTART:20200308T030000
TZOFFSETFROM:-0500
TZOFFSETTO:-0400
TZNAME:EDT
END:DAYLIGHT
END:VTIMEZONE
END:VCALENDAR