BEGIN:VCALENDAR
VERSION:2.0
PRODID:-//wp-events-plugin.com//7.2.3.1//EN
TZID:America/New_York
X-WR-TIMEZONE:America/New_York
BEGIN:VEVENT
UID:17@laurelparksarasota.org
DTSTART;TZID=America/New_York:20201227T180000
DTEND;TZID=America/New_York:20201227T210000
DTSTAMP:20201205T014240Z
URL:https://laurelparksarasota.org/events/holiday-party-in-the-streets-of-
 laurel-park/
SUMMARY:Holiday Party in the Streets of Laurel Park
DESCRIPTION:We couldn't let December pass without a socially distant and sa
 fe holiday "gathering". We invite you to join your Laurel Park neighbors t
 o celebrate this season of joy and spread some holiday cheer!\n\n 	Decorat
 e your homes with festive holiday lights (win a prize for the best holiday
  spirit!)\n 	Dress up in your favorite holiday "ugly sweater"\, Santa hats
 \, bells on your toes...?\n 	Set up a table and chairs outside your home i
 n driveway or sidewalk and put out your own munchies\, cookies\, candies a
 nd drink\n        LPNA will provide some sweets and treats for the kids --
  more on this to come!\n 	Greet your neighbors and wish them happy holiday
 s or whatever you celebrate!\n 	Stroll the neighborhood to view the lights
  and decorations\n 	Play fun holiday music on your Bluetooth speakers outs
 ide.\n 	Social distancing will be observed with a smile and 6+ feet distan
 ce. Stay safe!\n\nPlease note that due to citywide restrictions due to the
  pandemic\, we can not gather at Laurel Park as we have in years past. \n\
 nLet us know if you have any questions or suggestions about this event. Yo
 u may email us at info@laurelparksarasota.org\n
ATTACH;FMTTYPE=image/jpeg:https://laurelparksarasota.org/wp-content/upload
 s/2020/12/animal-ornament-on-tree500x333.jpg
CATEGORIES:In the Neighborhood
LOCATION:Laurel Park Neighborhood (Your Home)\, 1732 Laurel Street\, Saraso
 ta\, FL\, 34236\, United States
X-APPLE-STRUCTURED-LOCATION;VALUE=URI;X-ADDRESS=1732 Laurel Street\, Saraso
 ta\, FL\, 34236\, United States;X-APPLE-RADIUS=100;X-TITLE=Laurel Park Nei
 ghborhood (Your Home):geo:0,0
END:VEVENT
BEGIN:VTIMEZONE
TZID:America/New_York
X-LIC-LOCATION:America/New_York
BEGIN:STANDARD
DTSTART:20201101T010000
TZOFFSETFROM:-0400
TZOFFSETTO:-0500
TZNAME:EST
END:STANDARD
END:VTIMEZONE
END:VCALENDAR