BEGIN:VCALENDAR
VERSION:2.0
PRODID:-//wp-events-plugin.com//7.2.3.1//EN
TZID:America/New_York
X-WR-TIMEZONE:America/New_York
BEGIN:VEVENT
UID:4@laurelparksarasota.org
DTSTART;TZID=America/New_York:20191214T170000
DTEND;TZID=America/New_York:20191214T190000
DTSTAMP:20191210T063856Z
URL:https://laurelparksarasota.org/events/holiday-party-4/
SUMMARY:2019 Holiday Party
DESCRIPTION:[su_divider top="no" divider_color="#bf0d0f" size="4" margin="0
 "]\n\n 	BYOB\n 	Pizza provided by LPNA\n 	Students from Bishop High School
  will sing carols!\n
CATEGORIES:In the Neighborhood
LOCATION:Laurel Park\, 1732 Laurel St.\, Sarasota\, FL\, 34236\, United Sta
 tes
GEO:27.332503;-82.535702
X-APPLE-STRUCTURED-LOCATION;VALUE=URI;X-ADDRESS=1732 Laurel St.\, Sarasota\
 , FL\, 34236\, United States;X-APPLE-RADIUS=100;X-TITLE=Laurel Park:geo:27
 .332503,-82.535702
END:VEVENT
BEGIN:VTIMEZONE
TZID:America/New_York
X-LIC-LOCATION:America/New_York
BEGIN:STANDARD
DTSTART:20191103T010000
TZOFFSETFROM:-0400
TZOFFSETTO:-0500
TZNAME:EST
END:STANDARD
END:VTIMEZONE
END:VCALENDAR