BEGIN:VCALENDAR
VERSION:2.0
PRODID:-//wp-events-plugin.com//7.2.3.1//EN
TZID:America/New_York
X-WR-TIMEZONE:America/New_York
BEGIN:VEVENT
UID:22@laurelparksarasota.org
DTSTART;TZID=America/New_York:20210927T173000
DTEND;TZID=America/New_York:20210927T200000
DTSTAMP:20210903T153712Z
URL:https://laurelparksarasota.org/events/general-neighborhood-meeting/
SUMMARY:General Neighborhood Meeting
DESCRIPTION:On Monday\, Sept 27th\, the Laurel Park Neighborhood Associatio
 n (LPNA) will have its general meeting for the entire neighborhood.\n\nThe
  event will be hosted at Tamiami Tap.\nDoors open at 5:30pm and the meetin
 g will start at 6pm.\n\n 	Catch up with your neighbors.\n 	Hear about the 
 latest city projects affecting Laurel Park.\n 	Find out about initiatives 
 within our neighborhood.\n 	Help us make Laurel Park a better place to liv
 e.\n\nDelicious food and drinks will be available.\n\nThis event is exclus
 ively for Laurel Park residents and will be closed to the public.
CATEGORIES:LPNA General Meetings
LOCATION:Tamiami Tap\, 711 S. Osprey Ave\, Sarasota\, FL\, 34236\, United S
 tates
GEO:27.329837;-82.534002
X-APPLE-STRUCTURED-LOCATION;VALUE=URI;X-ADDRESS=711 S. Osprey Ave\, Sarasot
 a\, FL\, 34236\, United States;X-APPLE-RADIUS=100;X-TITLE=Tamiami Tap:geo:
 27.329837,-82.534002
END:VEVENT
BEGIN:VTIMEZONE
TZID:America/New_York
X-LIC-LOCATION:America/New_York
BEGIN:DAYLIGHT
DTSTART:20210314T030000
TZOFFSETFROM:-0500
TZOFFSETTO:-0400
TZNAME:EDT
END:DAYLIGHT
END:VTIMEZONE
END:VCALENDAR