BEGIN:VCALENDAR
VERSION:2.0
PRODID:-//wp-events-plugin.com//7.2.3.1//EN
TZID:America/New_York
X-WR-TIMEZONE:America/New_York
BEGIN:VEVENT
UID:32@laurelparksarasota.org
DTSTART;TZID=America/New_York:20230227T170000
DTEND;TZID=America/New_York:20230227T190000
DTSTAMP:20230112T183311Z
URL:https://laurelparksarasota.org/events/general-meeting-2/
SUMMARY:General Meeting
DESCRIPTION:Our next general meeting for the Laurel Park Neighborhood Assoc
 iation will be hosted at the Tiamami Tap.\n\nSave the day...more details t
 o come
CATEGORIES:LPNA General Meetings
LOCATION:Tiamami Tap\, 711 S Osprey Ave\, Sarasota\, FL\, 34236\, United St
 ates
X-APPLE-STRUCTURED-LOCATION;VALUE=URI;X-ADDRESS=711 S Osprey Ave\, Sarasota
 \, FL\, 34236\, United States;X-APPLE-RADIUS=100;X-TITLE=Tiamami Tap:geo:0
 ,0
END:VEVENT
BEGIN:VTIMEZONE
TZID:America/New_York
X-LIC-LOCATION:America/New_York
BEGIN:STANDARD
DTSTART:20221106T010000
TZOFFSETFROM:-0400
TZOFFSETTO:-0500
TZNAME:EST
END:STANDARD
END:VTIMEZONE
END:VCALENDAR