BEGIN:VCALENDAR
VERSION:2.0
PRODID:-//wp-events-plugin.com//7.2.3.1//EN
TZID:America/New_York
X-WR-TIMEZONE:America/New_York
BEGIN:VEVENT
UID:6@laurelparksarasota.org
DTSTART;TZID=America/New_York:20200210T180000
DTEND;TZID=America/New_York:20200210T200000
DTSTAMP:20191217T055900Z
URL:https://laurelparksarasota.org/events/general-lpna-meeting/
SUMMARY:General LPNA Meeting (All Laurel Park Residents Invited)
DESCRIPTION:All members of LPNA and residents of Laurel Park are invited.\n
 \nDetails to be announced.\n\nTentatively to be held at Tamiami Tap on Osp
 rey.
CATEGORIES:In the Neighborhood
LOCATION:Tamiami Tap\, 711 S Osprey Ave\, Sarasota\, FL\, 34236\, United St
 ates
GEO:27.329837;-82.534002
X-APPLE-STRUCTURED-LOCATION;VALUE=URI;X-ADDRESS=711 S Osprey Ave\, Sarasota
 \, FL\, 34236\, United States;X-APPLE-RADIUS=100;X-TITLE=Tamiami Tap:geo:2
 7.329837,-82.534002
END:VEVENT
BEGIN:VTIMEZONE
TZID:America/New_York
X-LIC-LOCATION:America/New_York
BEGIN:STANDARD
DTSTART:20191103T010000
TZOFFSETFROM:-0400
TZOFFSETTO:-0500
TZNAME:EST
END:STANDARD
END:VTIMEZONE
END:VCALENDAR