BEGIN:VCALENDAR
VERSION:2.0
PRODID:-//wp-events-plugin.com//7.2.3.1//EN
TZID:America/New_York
X-WR-TIMEZONE:America/New_York
BEGIN:VEVENT
UID:25@laurelparksarasota.org
DTSTART;TZID=America/New_York:20220228T180000
DTEND;TZID=America/New_York:20220228T200000
DTSTAMP:20220228T121625Z
URL:https://laurelparksarasota.org/events/general-lpna-meeting-all-laurel-
 park-residents-invited/
SUMMARY:General LPNA Meeting (All Laurel Park Residents Invited)
DESCRIPTION:Doors open at 5:30pm.\n\nAll members of LPNA and residents of L
 aurel Park are invited.   Friends of Laurel Park are also welcome.\n\n 	C
 atch up with your neighbors.\n 	Hear about the latest projects affecting L
 aurel Park.\n 	Find out about the on-going initiatives within our neighbor
 hood and the results of our petitions.\n 	Help us make Laurel Park a bette
 r place to live.\n\nTo be held at Tamiami Tap on Osprey.
CATEGORIES:In the Neighborhood,LPNA General Meetings
LOCATION:Tamiami Tap\, 711 S Osprey Ave\, Sarasota\, FL\, 34236\, United St
 ates
GEO:27.329837;-82.534002
X-APPLE-STRUCTURED-LOCATION;VALUE=URI;X-ADDRESS=711 S Osprey Ave\, Sarasota
 \, FL\, 34236\, United States;X-APPLE-RADIUS=100;X-TITLE=Tamiami Tap:geo:2
 7.329837,-82.534002
END:VEVENT
BEGIN:VTIMEZONE
TZID:America/New_York
X-LIC-LOCATION:America/New_York
BEGIN:STANDARD
DTSTART:20211107T010000
TZOFFSETFROM:-0400
TZOFFSETTO:-0500
TZNAME:EST
END:STANDARD
END:VTIMEZONE
END:VCALENDAR