BEGIN:VCALENDAR
VERSION:2.0
PRODID:-//wp-events-plugin.com//7.2.3.1//EN
TZID:America/New_York
X-WR-TIMEZONE:America/New_York
BEGIN:VEVENT
UID:38@laurelparksarasota.org
DTSTART;TZID=America/New_York:20231113T180000
DTEND;TZID=America/New_York:20231113T200000
DTSTAMP:20231108T215105Z
URL:https://laurelparksarasota.org/events/general-lpna-meeting-all-laurel-
 park-residents-invited-2/
SUMMARY:General LPNA Meeting (All Laurel Park Residents Invited)
DESCRIPTION:All members of LPNA and residents of Laurel Park are invited.\n
 \nDoors open at 5 pm and the meeting will start at 6pm.\n\nAnd as always\,
  our neighborhood meeting is a great place to:\n\n 	Catch up with your nei
 ghbors.\n\n\n 	Hear about the latest city projects affecting Laurel Park.\
 n\n\n 	Find out about initiatives within our neighborhood.\n\n\n 	Help us 
 make Laurel Park a better place to live.\n\nDelicious food and drinks will
  be available.
CATEGORIES:In the Neighborhood
LOCATION:Tamiami Tap\, 711 S Osprey Ave\, Sarasota\, FL\, 34236\, United St
 ates
GEO:27.329837;-82.534002
X-APPLE-STRUCTURED-LOCATION;VALUE=URI;X-ADDRESS=711 S Osprey Ave\, Sarasota
 \, FL\, 34236\, United States;X-APPLE-RADIUS=100;X-TITLE=Tamiami Tap:geo:2
 7.329837,-82.534002
END:VEVENT
BEGIN:VTIMEZONE
TZID:America/New_York
X-LIC-LOCATION:America/New_York
BEGIN:STANDARD
DTSTART:20231105T010000
TZOFFSETFROM:-0400
TZOFFSETTO:-0500
TZNAME:EST
END:STANDARD
END:VTIMEZONE
END:VCALENDAR