BEGIN:VCALENDAR
VERSION:2.0
PRODID:-//wp-events-plugin.com//7.2.3.1//EN
TZID:America/New_York
X-WR-TIMEZONE:America/New_York
BEGIN:VEVENT
UID:16@laurelparksarasota.org
DTSTART;TZID=America/New_York:20201214T180000
DTEND;TZID=America/New_York:20201214T190000
DTSTAMP:20201202T010839Z
URL:https://laurelparksarasota.org/events/december-lpna-board-meeting/
SUMMARY:December LPNA Board Meeting
DESCRIPTION:				Regular meeting of the Board of the Laurel Park Neighborhoo
 d Association. Neighbors are welcome to attend.		
ATTACH;FMTTYPE=image/jpeg:https://laurelparksarasota.org/wp-content/upload
 s/2013/05/logo-lpna.gif
CATEGORIES:LPNA Board Meetings
LOCATION:Laurel Park\, 1732 Laurel St.\, Sarasota\, FL\, 34236\, United Sta
 tes
GEO:27.332503;-82.535702
X-APPLE-STRUCTURED-LOCATION;VALUE=URI;X-ADDRESS=1732 Laurel St.\, Sarasota\
 , FL\, 34236\, United States;X-APPLE-RADIUS=100;X-TITLE=Laurel Park:geo:27
 .332503,-82.535702
END:VEVENT
BEGIN:VTIMEZONE
TZID:America/New_York
X-LIC-LOCATION:America/New_York
BEGIN:STANDARD
DTSTART:20201101T010000
TZOFFSETFROM:-0400
TZOFFSETTO:-0500
TZNAME:EST
END:STANDARD
END:VTIMEZONE
END:VCALENDAR