BEGIN:VCALENDAR
VERSION:2.0
PRODID:-//wp-events-plugin.com//7.2.3.1//EN
TZID:America/New_York
X-WR-TIMEZONE:America/New_York
BEGIN:VEVENT
UID:36@laurelparksarasota.org
DTSTART;TZID=America/New_York:20230801T173000
DTEND;TZID=America/New_York:20230801T183000
DTSTAMP:20230717T211847Z
URL:https://laurelparksarasota.org/events/community-workshop-for-morrill-l
 and-reclassification/
SUMMARY:Community Workshop for Morrill Lot land use change
DESCRIPTION:\n\nOne large piece of Laurel Park property (more than two acre
 s) on the corner of Rawls Avenue and Morrill Street was recently sold. The
  purchaser has filed with the City of Sarasota to change the land use clas
 sification from residential to mixed-use. In addition to height increases 
 that would accompany the zoning changes\, this would make that parcel subj
 ect to Florida’s new Live Local Act (which would force the city to appro
 ve up to 18 stories if the project contained an element of attainable hous
 ing).\n\nLearn more at: frequently asked questions\nSign the Petition
CATEGORIES:Government / Community Meetings
LOCATION:Selby Library\, 1331 First St.\, Sarasota\, FL\, 34236\, United St
 ates
X-APPLE-STRUCTURED-LOCATION;VALUE=URI;X-ADDRESS=1331 First St.\, Sarasota\,
  FL\, 34236\, United States;X-APPLE-RADIUS=100;X-TITLE=Selby Library:geo:0
 ,0
END:VEVENT
BEGIN:VTIMEZONE
TZID:America/New_York
X-LIC-LOCATION:America/New_York
BEGIN:DAYLIGHT
DTSTART:20230312T030000
TZOFFSETFROM:-0500
TZOFFSETTO:-0400
TZNAME:EDT
END:DAYLIGHT
END:VTIMEZONE
END:VCALENDAR