BEGIN:VCALENDAR
VERSION:2.0
PRODID:-//wp-events-plugin.com//7.2.3.1//EN
TZID:America/New_York
X-WR-TIMEZONE:America/New_York
BEGIN:VEVENT
UID:37@laurelparksarasota.org
DTSTART;TZID=America/New_York;VALUE=DATE:20231003
DTEND;TZID=America/New_York;VALUE=DATE:20231006
DTSTAMP:20230910T182613Z
URL:https://laurelparksarasota.org/events/benderson-charrette/
SUMMARY:Benderson 1660 Ringling Blvd. Charrette
DESCRIPTION:\n\n&nbsp\;\n\nAs a follow-up to the community workshop regardi
 ng Benderson's application to change the land use for the Sarasota County 
 building site\,  Benderson has hired the firm of Torti Gallas to come to 
 Sarasota for a 3 day charrette to develop a site plan.   Since Laurel Par
 k considers any change of land-use/zoning existential to the neighborhood\
 , the hope is that the architects can create a plan that fits within the e
 xisting RSM-9 zoning while meeting the goals of Benderson.\n\nThis will oc
 cur at the McCulloch Pavilion and be hosted by Architecture Sarasota.\n\nW
 hile the details are still being worked out\, the intention is to provide 
 public access to the architects throughout the entire process.\n\n&nbsp\;
ATTACH;FMTTYPE=image/jpeg:https://laurelparksarasota.org/wp-content/upload
 s/2023/09/14313877931005747.jpg.webp
CATEGORIES:Government / Community Meetings
LOCATION:Mcculloch Pavilion\, 265 South Orange Ave.\, Sarasota\, FL\, 34236
 \, United States
X-APPLE-STRUCTURED-LOCATION;VALUE=URI;X-ADDRESS=265 South Orange Ave.\, Sar
 asota\, FL\, 34236\, United States;X-APPLE-RADIUS=100;X-TITLE=Mcculloch Pa
 vilion:geo:0,0
END:VEVENT
BEGIN:VTIMEZONE
TZID:America/New_York
X-LIC-LOCATION:America/New_York
BEGIN:DAYLIGHT
DTSTART:20230312T030000
TZOFFSETFROM:-0500
TZOFFSETTO:-0400
TZNAME:EDT
END:DAYLIGHT
END:VTIMEZONE
END:VCALENDAR