BEGIN:VCALENDAR
VERSION:2.0
PRODID:-//wp-events-plugin.com//7.2.3.1//EN
TZID:America/New_York
X-WR-TIMEZONE:America/New_York
BEGIN:VEVENT
UID:35@laurelparksarasota.org
DTSTART;TZID=America/New_York:20230428T100000
DTEND;TZID=America/New_York:20230428T110000
DTSTAMP:20230427T160007Z
URL:https://laurelparksarasota.org/events/arbor-day-tree-planting/
SUMMARY:Arbor Day Tree Planting
DESCRIPTION:				Regular meeting of the Board of the Laurel Park Neighborhoo
 d Association. Neighbors are welcome to attend.		
ATTACH;FMTTYPE=image/jpeg:https://laurelparksarasota.org/wp-content/upload
 s/2023/04/b7bea15f-eec1-9837-cf29-c5701df2e947.png
CATEGORIES:In the Neighborhood
LOCATION:Laurel Park\, 1732 Laurel St.\, Sarasota\, FL\, 34236\, United Sta
 tes
GEO:27.332503;-82.535702
X-APPLE-STRUCTURED-LOCATION;VALUE=URI;X-ADDRESS=1732 Laurel St.\, Sarasota\
 , FL\, 34236\, United States;X-APPLE-RADIUS=100;X-TITLE=Laurel Park:geo:27
 .332503,-82.535702
END:VEVENT
BEGIN:VTIMEZONE
TZID:America/New_York
X-LIC-LOCATION:America/New_York
BEGIN:DAYLIGHT
DTSTART:20230312T030000
TZOFFSETFROM:-0500
TZOFFSETTO:-0400
TZNAME:EDT
END:DAYLIGHT
END:VTIMEZONE
END:VCALENDAR